BEGIN:VCALENDAR
VERSION:2.0
PRODID:-//Seniorenzentrum-Lichtenberg - ECPv6.15.20//NONSGML v1.0//EN
CALSCALE:GREGORIAN
METHOD:PUBLISH
X-ORIGINAL-URL:https://www.seniorenzentrum-lichtenberg.de
X-WR-CALDESC:Veranstaltungen für Seniorenzentrum-Lichtenberg
REFRESH-INTERVAL;VALUE=DURATION:PT1H
X-Robots-Tag:noindex
X-PUBLISHED-TTL:PT1H
BEGIN:VTIMEZONE
TZID:Europe/Berlin
BEGIN:DAYLIGHT
TZOFFSETFROM:+0100
TZOFFSETTO:+0200
TZNAME:CEST
DTSTART:20230326T010000
END:DAYLIGHT
BEGIN:STANDARD
TZOFFSETFROM:+0200
TZOFFSETTO:+0100
TZNAME:CET
DTSTART:20231029T010000
END:STANDARD
BEGIN:DAYLIGHT
TZOFFSETFROM:+0100
TZOFFSETTO:+0200
TZNAME:CEST
DTSTART:20240331T010000
END:DAYLIGHT
BEGIN:STANDARD
TZOFFSETFROM:+0200
TZOFFSETTO:+0100
TZNAME:CET
DTSTART:20241027T010000
END:STANDARD
BEGIN:DAYLIGHT
TZOFFSETFROM:+0100
TZOFFSETTO:+0200
TZNAME:CEST
DTSTART:20250330T010000
END:DAYLIGHT
BEGIN:STANDARD
TZOFFSETFROM:+0200
TZOFFSETTO:+0100
TZNAME:CET
DTSTART:20251026T010000
END:STANDARD
END:VTIMEZONE
BEGIN:VEVENT
DTSTART;TZID=Europe/Berlin:20240303T143000
DTEND;TZID=Europe/Berlin:20240303T163000
DTSTAMP:20260419T221238
CREATED:20240304T101213Z
LAST-MODIFIED:20240304T101213Z
UID:4960-1709476200-1709483400@www.seniorenzentrum-lichtenberg.de
SUMMARY:Die HGL-Singers auf Tour
DESCRIPTION:
URL:https://www.seniorenzentrum-lichtenberg.de/event/die-hgl-singers-auf-tour-3/
END:VEVENT
BEGIN:VEVENT
DTSTART;TZID=Europe/Berlin:20240305T100000
DTEND;TZID=Europe/Berlin:20240305T110000
DTSTAMP:20260419T221238
CREATED:20240304T101401Z
LAST-MODIFIED:20240304T101401Z
UID:4962-1709632800-1709636400@www.seniorenzentrum-lichtenberg.de
SUMMARY:Kraft-Balance-Training
DESCRIPTION:
URL:https://www.seniorenzentrum-lichtenberg.de/event/kraft-balance-training-40/
END:VEVENT
BEGIN:VEVENT
DTSTART;TZID=Europe/Berlin:20240306T100000
DTEND;TZID=Europe/Berlin:20240306T110000
DTSTAMP:20260419T221238
CREATED:20240304T101437Z
LAST-MODIFIED:20240304T101437Z
UID:4964-1709719200-1709722800@www.seniorenzentrum-lichtenberg.de
SUMMARY:Singkreis
DESCRIPTION:
URL:https://www.seniorenzentrum-lichtenberg.de/event/singkreis-40/
END:VEVENT
BEGIN:VEVENT
DTSTART;TZID=Europe/Berlin:20240306T143000
DTEND;TZID=Europe/Berlin:20240306T163000
DTSTAMP:20260419T221238
CREATED:20240304T101507Z
LAST-MODIFIED:20240304T101507Z
UID:4966-1709735400-1709742600@www.seniorenzentrum-lichtenberg.de
SUMMARY:Bingo
DESCRIPTION:
URL:https://www.seniorenzentrum-lichtenberg.de/event/bingo-28/
END:VEVENT
BEGIN:VEVENT
DTSTART;TZID=Europe/Berlin:20240307T100000
DTEND;TZID=Europe/Berlin:20240307T110000
DTSTAMP:20260419T221238
CREATED:20240304T101543Z
LAST-MODIFIED:20240304T101543Z
UID:4968-1709805600-1709809200@www.seniorenzentrum-lichtenberg.de
SUMMARY:Märchenstunde
DESCRIPTION:
URL:https://www.seniorenzentrum-lichtenberg.de/event/maerchenstunde-9/
END:VEVENT
BEGIN:VEVENT
DTSTART;TZID=Europe/Berlin:20240307T143000
DTEND;TZID=Europe/Berlin:20240307T170000
DTSTAMP:20260419T221238
CREATED:20240304T101708Z
LAST-MODIFIED:20240304T101708Z
UID:4970-1709821800-1709830800@www.seniorenzentrum-lichtenberg.de
SUMMARY:Kaffeefahrt nach Holpe
DESCRIPTION:
URL:https://www.seniorenzentrum-lichtenberg.de/event/kaffeefahrt-nach-holpe-6/
END:VEVENT
BEGIN:VEVENT
DTSTART;TZID=Europe/Berlin:20240309T110000
DTEND;TZID=Europe/Berlin:20240309T120000
DTSTAMP:20260419T221238
CREATED:20240304T101802Z
LAST-MODIFIED:20240304T101802Z
UID:4972-1709982000-1709985600@www.seniorenzentrum-lichtenberg.de
SUMMARY:Klavierkonzert
DESCRIPTION:
URL:https://www.seniorenzentrum-lichtenberg.de/event/klavierkonzert/
END:VEVENT
BEGIN:VEVENT
DTSTART;TZID=Europe/Berlin:20240312T100000
DTEND;TZID=Europe/Berlin:20240312T110000
DTSTAMP:20260419T221238
CREATED:20240304T101853Z
LAST-MODIFIED:20240304T101853Z
UID:4974-1710237600-1710241200@www.seniorenzentrum-lichtenberg.de
SUMMARY:Kraft-Balance-Training
DESCRIPTION:
URL:https://www.seniorenzentrum-lichtenberg.de/event/kraft-balance-training-41/
END:VEVENT
BEGIN:VEVENT
DTSTART;TZID=Europe/Berlin:20240312T150000
DTEND;TZID=Europe/Berlin:20240312T170000
DTSTAMP:20260419T221238
CREATED:20240304T101940Z
LAST-MODIFIED:20240304T112825Z
UID:4976-1710255600-1710262800@www.seniorenzentrum-lichtenberg.de
SUMMARY:Kinonachmittag
DESCRIPTION:
URL:https://www.seniorenzentrum-lichtenberg.de/event/kinonachmittag-2/
END:VEVENT
BEGIN:VEVENT
DTSTART;TZID=Europe/Berlin:20240313T100000
DTEND;TZID=Europe/Berlin:20240313T110000
DTSTAMP:20260419T221238
CREATED:20240304T102017Z
LAST-MODIFIED:20240304T102017Z
UID:4978-1710324000-1710327600@www.seniorenzentrum-lichtenberg.de
SUMMARY:Singkreis
DESCRIPTION:
URL:https://www.seniorenzentrum-lichtenberg.de/event/singkreis-41/
END:VEVENT
BEGIN:VEVENT
DTSTART;TZID=Europe/Berlin:20240313T150000
DTEND;TZID=Europe/Berlin:20240313T170000
DTSTAMP:20260419T221238
CREATED:20240304T102115Z
LAST-MODIFIED:20240304T102115Z
UID:4980-1710342000-1710349200@www.seniorenzentrum-lichtenberg.de
SUMMARY:Spielenachmittag
DESCRIPTION:
URL:https://www.seniorenzentrum-lichtenberg.de/event/spielenachmittag-2/
END:VEVENT
BEGIN:VEVENT
DTSTART;TZID=Europe/Berlin:20240315T150000
DTEND;TZID=Europe/Berlin:20240315T163000
DTSTAMP:20260419T221238
CREATED:20240304T102511Z
LAST-MODIFIED:20240304T102511Z
UID:4982-1710514800-1710520200@www.seniorenzentrum-lichtenberg.de
SUMMARY:Kuchenbäckerei SKFM
DESCRIPTION:
URL:https://www.seniorenzentrum-lichtenberg.de/event/kuchenbaeckerei-skfm-8/
END:VEVENT
BEGIN:VEVENT
DTSTART;TZID=Europe/Berlin:20240316T130000
DTEND;TZID=Europe/Berlin:20240316T140000
DTSTAMP:20260419T221238
CREATED:20240304T111720Z
LAST-MODIFIED:20240304T111720Z
UID:4984-1710594000-1710597600@www.seniorenzentrum-lichtenberg.de
SUMMARY:Chorprobe
DESCRIPTION:
URL:https://www.seniorenzentrum-lichtenberg.de/event/chorprobe/
END:VEVENT
BEGIN:VEVENT
DTSTART;TZID=Europe/Berlin:20240319T100000
DTEND;TZID=Europe/Berlin:20240319T110000
DTSTAMP:20260419T221238
CREATED:20240304T111806Z
LAST-MODIFIED:20240304T111806Z
UID:4986-1710842400-1710846000@www.seniorenzentrum-lichtenberg.de
SUMMARY:Kraft-Balance-Training
DESCRIPTION:
URL:https://www.seniorenzentrum-lichtenberg.de/event/kraft-balance-training-42/
END:VEVENT
BEGIN:VEVENT
DTSTART;TZID=Europe/Berlin:20240320T090000
DTEND;TZID=Europe/Berlin:20240320T113000
DTSTAMP:20260419T221238
CREATED:20240304T111954Z
LAST-MODIFIED:20240304T111954Z
UID:4990-1710925200-1710934200@www.seniorenzentrum-lichtenberg.de
SUMMARY:Kleidermarkt
DESCRIPTION:
URL:https://www.seniorenzentrum-lichtenberg.de/event/kleidermarkt/
END:VEVENT
BEGIN:VEVENT
DTSTART;TZID=Europe/Berlin:20240320T100000
DTEND;TZID=Europe/Berlin:20240320T110000
DTSTAMP:20260419T221238
CREATED:20240304T111841Z
LAST-MODIFIED:20240304T111841Z
UID:4988-1710928800-1710932400@www.seniorenzentrum-lichtenberg.de
SUMMARY:Singkreis
DESCRIPTION:
URL:https://www.seniorenzentrum-lichtenberg.de/event/singkreis-42/
END:VEVENT
BEGIN:VEVENT
DTSTART;TZID=Europe/Berlin:20240321T100000
DTEND;TZID=Europe/Berlin:20240321T110000
DTSTAMP:20260419T221238
CREATED:20240304T112030Z
LAST-MODIFIED:20240304T112030Z
UID:4992-1711015200-1711018800@www.seniorenzentrum-lichtenberg.de
SUMMARY:Märchenstunde
DESCRIPTION:
URL:https://www.seniorenzentrum-lichtenberg.de/event/maerchenstunde-10/
END:VEVENT
BEGIN:VEVENT
DTSTART;TZID=Europe/Berlin:20240322T133000
DTEND;TZID=Europe/Berlin:20240322T150000
DTSTAMP:20260419T221238
CREATED:20240304T112116Z
LAST-MODIFIED:20240304T112116Z
UID:4994-1711114200-1711119600@www.seniorenzentrum-lichtenberg.de
SUMMARY:Das offene Ohr
DESCRIPTION:
URL:https://www.seniorenzentrum-lichtenberg.de/event/das-offene-ohr-4/
END:VEVENT
BEGIN:VEVENT
DTSTART;TZID=Europe/Berlin:20240326T100000
DTEND;TZID=Europe/Berlin:20240326T110000
DTSTAMP:20260419T221238
CREATED:20240304T112205Z
LAST-MODIFIED:20240304T112205Z
UID:4996-1711447200-1711450800@www.seniorenzentrum-lichtenberg.de
SUMMARY:Kraft-Balance-Training
DESCRIPTION:
URL:https://www.seniorenzentrum-lichtenberg.de/event/kraft-balance-training-43/
END:VEVENT
BEGIN:VEVENT
DTSTART;TZID=Europe/Berlin:20240327T100000
DTEND;TZID=Europe/Berlin:20240327T110000
DTSTAMP:20260419T221238
CREATED:20240304T112234Z
LAST-MODIFIED:20240304T112234Z
UID:4998-1711533600-1711537200@www.seniorenzentrum-lichtenberg.de
SUMMARY:Singkreis
DESCRIPTION:
URL:https://www.seniorenzentrum-lichtenberg.de/event/singkreis-43/
END:VEVENT
BEGIN:VEVENT
DTSTART;TZID=Europe/Berlin:20240331T150000
DTEND;TZID=Europe/Berlin:20240331T163000
DTSTAMP:20260419T221238
CREATED:20240304T112321Z
LAST-MODIFIED:20240304T112321Z
UID:5000-1711897200-1711902600@www.seniorenzentrum-lichtenberg.de
SUMMARY:Waffelbacken
DESCRIPTION:
URL:https://www.seniorenzentrum-lichtenberg.de/event/waffelbacken-4/
END:VEVENT
END:VCALENDAR