BEGIN:VCALENDAR
VERSION:2.0
PRODID:-//Seniorenzentrum-Lichtenberg - ECPv6.15.20//NONSGML v1.0//EN
CALSCALE:GREGORIAN
METHOD:PUBLISH
X-WR-CALNAME:Seniorenzentrum-Lichtenberg
X-ORIGINAL-URL:https://www.seniorenzentrum-lichtenberg.de
X-WR-CALDESC:Veranstaltungen für Seniorenzentrum-Lichtenberg
REFRESH-INTERVAL;VALUE=DURATION:PT1H
X-Robots-Tag:noindex
X-PUBLISHED-TTL:PT1H
BEGIN:VTIMEZONE
TZID:Europe/Berlin
BEGIN:DAYLIGHT
TZOFFSETFROM:+0100
TZOFFSETTO:+0200
TZNAME:CEST
DTSTART:20220327T010000
END:DAYLIGHT
BEGIN:STANDARD
TZOFFSETFROM:+0200
TZOFFSETTO:+0100
TZNAME:CET
DTSTART:20221030T010000
END:STANDARD
BEGIN:DAYLIGHT
TZOFFSETFROM:+0100
TZOFFSETTO:+0200
TZNAME:CEST
DTSTART:20230326T010000
END:DAYLIGHT
BEGIN:STANDARD
TZOFFSETFROM:+0200
TZOFFSETTO:+0100
TZNAME:CET
DTSTART:20231029T010000
END:STANDARD
BEGIN:DAYLIGHT
TZOFFSETFROM:+0100
TZOFFSETTO:+0200
TZNAME:CEST
DTSTART:20240331T010000
END:DAYLIGHT
BEGIN:STANDARD
TZOFFSETFROM:+0200
TZOFFSETTO:+0100
TZNAME:CET
DTSTART:20241027T010000
END:STANDARD
END:VTIMEZONE
BEGIN:VEVENT
DTSTART;TZID=Europe/Berlin:20231001T150000
DTEND;TZID=Europe/Berlin:20231001T150000
DTSTAMP:20260420T081937
CREATED:20231011T123100Z
LAST-MODIFIED:20231011T123100Z
UID:4751-1696172400-1696172400@www.seniorenzentrum-lichtenberg.de
SUMMARY:Die HGL-Singers
DESCRIPTION:
URL:https://www.seniorenzentrum-lichtenberg.de/event/die-hgl-singers-4/
END:VEVENT
BEGIN:VEVENT
DTSTART;TZID=Europe/Berlin:20231003T100000
DTEND;TZID=Europe/Berlin:20231003T110000
DTSTAMP:20260420T081937
CREATED:20231011T123200Z
LAST-MODIFIED:20231011T123200Z
UID:4753-1696327200-1696330800@www.seniorenzentrum-lichtenberg.de
SUMMARY:Kraft-Balance-Training
DESCRIPTION:
URL:https://www.seniorenzentrum-lichtenberg.de/event/kraft-balance-training-27/
END:VEVENT
BEGIN:VEVENT
DTSTART;TZID=Europe/Berlin:20231005T100000
DTEND;TZID=Europe/Berlin:20231005T110000
DTSTAMP:20260420T081937
CREATED:20231011T123246Z
LAST-MODIFIED:20231011T123246Z
UID:4755-1696500000-1696503600@www.seniorenzentrum-lichtenberg.de
SUMMARY:Märchenstunde
DESCRIPTION:
URL:https://www.seniorenzentrum-lichtenberg.de/event/maerchenstunde-4/
END:VEVENT
BEGIN:VEVENT
DTSTART;TZID=Europe/Berlin:20231005T140000
DTEND;TZID=Europe/Berlin:20231005T160000
DTSTAMP:20260420T081937
CREATED:20231011T123534Z
LAST-MODIFIED:20231011T135445Z
UID:4757-1696514400-1696521600@www.seniorenzentrum-lichtenberg.de
SUMMARY:Kaffeefahrt nach Holpe
DESCRIPTION:
URL:https://www.seniorenzentrum-lichtenberg.de/event/kaffeefahrt/
END:VEVENT
BEGIN:VEVENT
DTSTART;TZID=Europe/Berlin:20231006T130000
DTEND;TZID=Europe/Berlin:20231006T150000
DTSTAMP:20260420T081937
CREATED:20231011T123639Z
LAST-MODIFIED:20231011T123639Z
UID:4759-1696597200-1696604400@www.seniorenzentrum-lichtenberg.de
SUMMARY:Das offene Ohr
DESCRIPTION:
URL:https://www.seniorenzentrum-lichtenberg.de/event/das-offene-ohr-2/
END:VEVENT
BEGIN:VEVENT
DTSTART;TZID=Europe/Berlin:20231010T100000
DTEND;TZID=Europe/Berlin:20231010T110000
DTSTAMP:20260420T081937
CREATED:20231011T124920Z
LAST-MODIFIED:20231011T124920Z
UID:4761-1696932000-1696935600@www.seniorenzentrum-lichtenberg.de
SUMMARY:Kraft-Balance-Training
DESCRIPTION:
URL:https://www.seniorenzentrum-lichtenberg.de/event/kraft-balance-training-28/
END:VEVENT
BEGIN:VEVENT
DTSTART;TZID=Europe/Berlin:20231011T100000
DTEND;TZID=Europe/Berlin:20231011T110000
DTSTAMP:20260420T081937
CREATED:20231011T125221Z
LAST-MODIFIED:20231011T125221Z
UID:4763-1697018400-1697022000@www.seniorenzentrum-lichtenberg.de
SUMMARY:Singkreis
DESCRIPTION:
URL:https://www.seniorenzentrum-lichtenberg.de/event/singkreis-29/
END:VEVENT
BEGIN:VEVENT
DTSTART;TZID=Europe/Berlin:20231011T150000
DTEND;TZID=Europe/Berlin:20231011T163000
DTSTAMP:20260420T081937
CREATED:20231011T125305Z
LAST-MODIFIED:20231011T125305Z
UID:4765-1697036400-1697041800@www.seniorenzentrum-lichtenberg.de
SUMMARY:Kino
DESCRIPTION:
URL:https://www.seniorenzentrum-lichtenberg.de/event/kino-2/
END:VEVENT
BEGIN:VEVENT
DTSTART;TZID=Europe/Berlin:20231017T100000
DTEND;TZID=Europe/Berlin:20231017T110000
DTSTAMP:20260420T081937
CREATED:20231011T125355Z
LAST-MODIFIED:20231011T125355Z
UID:4767-1697536800-1697540400@www.seniorenzentrum-lichtenberg.de
SUMMARY:Kraft-Balance-Training
DESCRIPTION:
URL:https://www.seniorenzentrum-lichtenberg.de/event/kraft-balance-training-29/
END:VEVENT
BEGIN:VEVENT
DTSTART;TZID=Europe/Berlin:20231017T173000
DTEND;TZID=Europe/Berlin:20231017T193000
DTSTAMP:20260420T081937
CREATED:20231011T131042Z
LAST-MODIFIED:20231011T131042Z
UID:4769-1697563800-1697571000@www.seniorenzentrum-lichtenberg.de
SUMMARY:Nachtschwärmer
DESCRIPTION:
URL:https://www.seniorenzentrum-lichtenberg.de/event/nachtschwaermer-10/
END:VEVENT
BEGIN:VEVENT
DTSTART;TZID=Europe/Berlin:20231018T100000
DTEND;TZID=Europe/Berlin:20231018T110000
DTSTAMP:20260420T081937
CREATED:20231011T131135Z
LAST-MODIFIED:20231011T131135Z
UID:4771-1697623200-1697626800@www.seniorenzentrum-lichtenberg.de
SUMMARY:Singkreis
DESCRIPTION:
URL:https://www.seniorenzentrum-lichtenberg.de/event/singkreis-30/
END:VEVENT
BEGIN:VEVENT
DTSTART;TZID=Europe/Berlin:20231018T150000
DTEND;TZID=Europe/Berlin:20231018T160000
DTSTAMP:20260420T081937
CREATED:20231011T131810Z
LAST-MODIFIED:20231011T131810Z
UID:4773-1697641200-1697644800@www.seniorenzentrum-lichtenberg.de
SUMMARY:Bingo
DESCRIPTION:
URL:https://www.seniorenzentrum-lichtenberg.de/event/bingo-23/
END:VEVENT
BEGIN:VEVENT
DTSTART;TZID=Europe/Berlin:20231020T150000
DTEND;TZID=Europe/Berlin:20231020T170000
DTSTAMP:20260420T081937
CREATED:20231011T132130Z
LAST-MODIFIED:20231011T132130Z
UID:4775-1697814000-1697821200@www.seniorenzentrum-lichtenberg.de
SUMMARY:Kuchenbäckerei SKFM
DESCRIPTION:
URL:https://www.seniorenzentrum-lichtenberg.de/event/kuchenbaeckerei-skfm-4/
END:VEVENT
BEGIN:VEVENT
DTSTART;TZID=Europe/Berlin:20231024T100000
DTEND;TZID=Europe/Berlin:20231024T160000
DTSTAMP:20260420T081937
CREATED:20231011T134040Z
LAST-MODIFIED:20231011T134040Z
UID:4777-1698141600-1698163200@www.seniorenzentrum-lichtenberg.de
SUMMARY:Mode Mobil
DESCRIPTION:
URL:https://www.seniorenzentrum-lichtenberg.de/event/mode-mobil-2/
END:VEVENT
BEGIN:VEVENT
DTSTART;TZID=Europe/Berlin:20231025T100000
DTEND;TZID=Europe/Berlin:20231025T160000
DTSTAMP:20260420T081937
CREATED:20231011T134209Z
LAST-MODIFIED:20231011T134209Z
UID:4779-1698228000-1698249600@www.seniorenzentrum-lichtenberg.de
SUMMARY:Mode Mobil
DESCRIPTION:
URL:https://www.seniorenzentrum-lichtenberg.de/event/mode-mobil-3/
END:VEVENT
BEGIN:VEVENT
DTSTART;TZID=Europe/Berlin:20231026T103000
DTEND;TZID=Europe/Berlin:20231026T113000
DTSTAMP:20260420T081937
CREATED:20231011T134522Z
LAST-MODIFIED:20231011T134522Z
UID:4781-1698316200-1698319800@www.seniorenzentrum-lichtenberg.de
SUMMARY:Gottesdienst
DESCRIPTION:
URL:https://www.seniorenzentrum-lichtenberg.de/event/gottesdienst-5/
END:VEVENT
BEGIN:VEVENT
DTSTART;TZID=Europe/Berlin:20231028T173000
DTEND;TZID=Europe/Berlin:20231028T190000
DTSTAMP:20260420T081937
CREATED:20231011T134733Z
LAST-MODIFIED:20231011T134733Z
UID:4783-1698514200-1698519600@www.seniorenzentrum-lichtenberg.de
SUMMARY:Cocktailparty
DESCRIPTION:
URL:https://www.seniorenzentrum-lichtenberg.de/event/cocktailparty/
END:VEVENT
BEGIN:VEVENT
DTSTART;TZID=Europe/Berlin:20231029T150000
DTEND;TZID=Europe/Berlin:20231029T163000
DTSTAMP:20260420T081937
CREATED:20231011T134940Z
LAST-MODIFIED:20231011T134940Z
UID:4785-1698591600-1698597000@www.seniorenzentrum-lichtenberg.de
SUMMARY:Waffelbackaktion
DESCRIPTION:
URL:https://www.seniorenzentrum-lichtenberg.de/event/waffelbackaktion-3/
END:VEVENT
BEGIN:VEVENT
DTSTART;TZID=Europe/Berlin:20231031T100000
DTEND;TZID=Europe/Berlin:20231031T110000
DTSTAMP:20260420T081937
CREATED:20231011T135058Z
LAST-MODIFIED:20231011T135058Z
UID:4787-1698746400-1698750000@www.seniorenzentrum-lichtenberg.de
SUMMARY:Kraft-Balance-Training
DESCRIPTION:
URL:https://www.seniorenzentrum-lichtenberg.de/event/kraft-balance-training-30/
END:VEVENT
BEGIN:VEVENT
DTSTART;TZID=Europe/Berlin:20231031T173000
DTEND;TZID=Europe/Berlin:20231031T190000
DTSTAMP:20260420T081937
CREATED:20231011T135300Z
LAST-MODIFIED:20231011T135300Z
UID:4789-1698773400-1698778800@www.seniorenzentrum-lichtenberg.de
SUMMARY:Nachtschwärmer
DESCRIPTION:
URL:https://www.seniorenzentrum-lichtenberg.de/event/nachtschwaermer-11/
END:VEVENT
END:VCALENDAR