BEGIN:VCALENDAR
VERSION:2.0
PRODID:-//Seniorenzentrum-Lichtenberg - ECPv6.15.20//NONSGML v1.0//EN
CALSCALE:GREGORIAN
METHOD:PUBLISH
X-ORIGINAL-URL:https://www.seniorenzentrum-lichtenberg.de
X-WR-CALDESC:Veranstaltungen für Seniorenzentrum-Lichtenberg
REFRESH-INTERVAL;VALUE=DURATION:PT1H
X-Robots-Tag:noindex
X-PUBLISHED-TTL:PT1H
BEGIN:VTIMEZONE
TZID:Europe/Berlin
BEGIN:DAYLIGHT
TZOFFSETFROM:+0100
TZOFFSETTO:+0200
TZNAME:CEST
DTSTART:20220327T010000
END:DAYLIGHT
BEGIN:STANDARD
TZOFFSETFROM:+0200
TZOFFSETTO:+0100
TZNAME:CET
DTSTART:20221030T010000
END:STANDARD
BEGIN:DAYLIGHT
TZOFFSETFROM:+0100
TZOFFSETTO:+0200
TZNAME:CEST
DTSTART:20230326T010000
END:DAYLIGHT
BEGIN:STANDARD
TZOFFSETFROM:+0200
TZOFFSETTO:+0100
TZNAME:CET
DTSTART:20231029T010000
END:STANDARD
BEGIN:DAYLIGHT
TZOFFSETFROM:+0100
TZOFFSETTO:+0200
TZNAME:CEST
DTSTART:20240331T010000
END:DAYLIGHT
BEGIN:STANDARD
TZOFFSETFROM:+0200
TZOFFSETTO:+0100
TZNAME:CET
DTSTART:20241027T010000
END:STANDARD
END:VTIMEZONE
BEGIN:VEVENT
DTSTART;TZID=Europe/Berlin:20230905T100000
DTEND;TZID=Europe/Berlin:20230905T110000
DTSTAMP:20260420T082240
CREATED:20230830T075526Z
LAST-MODIFIED:20230830T075526Z
UID:4680-1693908000-1693911600@www.seniorenzentrum-lichtenberg.de
SUMMARY:Kraft-Balance-Training
DESCRIPTION:
URL:https://www.seniorenzentrum-lichtenberg.de/event/kraft-balance-training-23/
END:VEVENT
BEGIN:VEVENT
DTSTART;TZID=Europe/Berlin:20230906T100000
DTEND;TZID=Europe/Berlin:20230906T110000
DTSTAMP:20260420T082240
CREATED:20230830T075600Z
LAST-MODIFIED:20230830T075600Z
UID:4682-1693994400-1693998000@www.seniorenzentrum-lichtenberg.de
SUMMARY:Singkreis
DESCRIPTION:
URL:https://www.seniorenzentrum-lichtenberg.de/event/singkreis-25/
END:VEVENT
BEGIN:VEVENT
DTSTART;TZID=Europe/Berlin:20230906T150000
DTEND;TZID=Europe/Berlin:20230906T160000
DTSTAMP:20260420T082240
CREATED:20230830T080328Z
LAST-MODIFIED:20230830T080328Z
UID:4685-1694012400-1694016000@www.seniorenzentrum-lichtenberg.de
SUMMARY:Bingo
DESCRIPTION:
URL:https://www.seniorenzentrum-lichtenberg.de/event/bingo-22/
END:VEVENT
BEGIN:VEVENT
DTSTART;TZID=Europe/Berlin:20230907T100000
DTEND;TZID=Europe/Berlin:20230907T110000
DTSTAMP:20260420T082240
CREATED:20230830T080420Z
LAST-MODIFIED:20230830T080420Z
UID:4687-1694080800-1694084400@www.seniorenzentrum-lichtenberg.de
SUMMARY:Märchenstunden
DESCRIPTION:
URL:https://www.seniorenzentrum-lichtenberg.de/event/maerchenstunden/
END:VEVENT
BEGIN:VEVENT
DTSTART;TZID=Europe/Berlin:20230912T100000
DTEND;TZID=Europe/Berlin:20230912T110000
DTSTAMP:20260420T082240
CREATED:20230830T080502Z
LAST-MODIFIED:20230830T080502Z
UID:4689-1694512800-1694516400@www.seniorenzentrum-lichtenberg.de
SUMMARY:Kraft-Balance-Training
DESCRIPTION:
URL:https://www.seniorenzentrum-lichtenberg.de/event/kraft-balance-training-24/
END:VEVENT
BEGIN:VEVENT
DTSTART;TZID=Europe/Berlin:20230913T100000
DTEND;TZID=Europe/Berlin:20230913T110000
DTSTAMP:20260420T082240
CREATED:20230830T080539Z
LAST-MODIFIED:20230830T080539Z
UID:4691-1694599200-1694602800@www.seniorenzentrum-lichtenberg.de
SUMMARY:Singkreis
DESCRIPTION:
URL:https://www.seniorenzentrum-lichtenberg.de/event/singkreis-26/
END:VEVENT
BEGIN:VEVENT
DTSTART;TZID=Europe/Berlin:20230917T150000
DTEND;TZID=Europe/Berlin:20230917T150000
DTSTAMP:20260420T082240
CREATED:20230830T080624Z
LAST-MODIFIED:20230830T081928Z
UID:4693-1694962800-1694962800@www.seniorenzentrum-lichtenberg.de
SUMMARY:Die HGL-Singers
DESCRIPTION:
URL:https://www.seniorenzentrum-lichtenberg.de/event/die-hgl-singers-3/
END:VEVENT
BEGIN:VEVENT
DTSTART;TZID=Europe/Berlin:20230919T100000
DTEND;TZID=Europe/Berlin:20230919T110000
DTSTAMP:20260420T082240
CREATED:20230830T080722Z
LAST-MODIFIED:20230830T080722Z
UID:4695-1695117600-1695121200@www.seniorenzentrum-lichtenberg.de
SUMMARY:Kraft-Balance-Training
DESCRIPTION:
URL:https://www.seniorenzentrum-lichtenberg.de/event/kraft-balance-training-25/
END:VEVENT
BEGIN:VEVENT
DTSTART;TZID=Europe/Berlin:20230919T130000
DTEND;TZID=Europe/Berlin:20230919T130000
DTSTAMP:20260420T082240
CREATED:20230830T080828Z
LAST-MODIFIED:20230830T080828Z
UID:4697-1695128400-1695128400@www.seniorenzentrum-lichtenberg.de
SUMMARY:Das offene Ohr
DESCRIPTION:
URL:https://www.seniorenzentrum-lichtenberg.de/event/das-offene-ohr/
END:VEVENT
BEGIN:VEVENT
DTSTART;TZID=Europe/Berlin:20230920T100000
DTEND;TZID=Europe/Berlin:20230920T110000
DTSTAMP:20260420T082240
CREATED:20230830T080924Z
LAST-MODIFIED:20230830T080924Z
UID:4699-1695204000-1695207600@www.seniorenzentrum-lichtenberg.de
SUMMARY:Singkreis
DESCRIPTION:
URL:https://www.seniorenzentrum-lichtenberg.de/event/singkreis-27/
END:VEVENT
BEGIN:VEVENT
DTSTART;TZID=Europe/Berlin:20230920T140000
DTEND;TZID=Europe/Berlin:20230920T160000
DTSTAMP:20260420T082240
CREATED:20230830T081026Z
LAST-MODIFIED:20230830T081026Z
UID:4701-1695218400-1695225600@www.seniorenzentrum-lichtenberg.de
SUMMARY:Oktoberfest
DESCRIPTION:
URL:https://www.seniorenzentrum-lichtenberg.de/event/oktoberfest/
END:VEVENT
BEGIN:VEVENT
DTSTART;TZID=Europe/Berlin:20230922T150000
DTEND;TZID=Europe/Berlin:20230922T170000
DTSTAMP:20260420T082240
CREATED:20230830T081109Z
LAST-MODIFIED:20230830T081109Z
UID:4703-1695394800-1695402000@www.seniorenzentrum-lichtenberg.de
SUMMARY:Kuchenbäckerei SKFM
DESCRIPTION:
URL:https://www.seniorenzentrum-lichtenberg.de/event/kuchenbaeckerei-skfm-3/
END:VEVENT
BEGIN:VEVENT
DTSTART;TZID=Europe/Berlin:20230924T150000
DTEND;TZID=Europe/Berlin:20230924T170000
DTSTAMP:20260420T082240
CREATED:20230830T081210Z
LAST-MODIFIED:20230830T081210Z
UID:4705-1695567600-1695574800@www.seniorenzentrum-lichtenberg.de
SUMMARY:Waffelbackaktion
DESCRIPTION:
URL:https://www.seniorenzentrum-lichtenberg.de/event/waffelbackaktion-2/
END:VEVENT
BEGIN:VEVENT
DTSTART;TZID=Europe/Berlin:20230926T100000
DTEND;TZID=Europe/Berlin:20230926T110000
DTSTAMP:20260420T082240
CREATED:20230830T081302Z
LAST-MODIFIED:20230830T081302Z
UID:4707-1695722400-1695726000@www.seniorenzentrum-lichtenberg.de
SUMMARY:Kraft-Balance-Training
DESCRIPTION:
URL:https://www.seniorenzentrum-lichtenberg.de/event/kraft-balance-training-26/
END:VEVENT
BEGIN:VEVENT
DTSTART;TZID=Europe/Berlin:20230927T100000
DTEND;TZID=Europe/Berlin:20230927T110000
DTSTAMP:20260420T082240
CREATED:20230830T081542Z
LAST-MODIFIED:20230830T081542Z
UID:4709-1695808800-1695812400@www.seniorenzentrum-lichtenberg.de
SUMMARY:Singkreis
DESCRIPTION:
URL:https://www.seniorenzentrum-lichtenberg.de/event/singkreis-28/
END:VEVENT
BEGIN:VEVENT
DTSTART;TZID=Europe/Berlin:20230928T103000
DTEND;TZID=Europe/Berlin:20230928T113000
DTSTAMP:20260420T082240
CREATED:20230830T081626Z
LAST-MODIFIED:20230830T081626Z
UID:4711-1695897000-1695900600@www.seniorenzentrum-lichtenberg.de
SUMMARY:Gottesdienst
DESCRIPTION:
URL:https://www.seniorenzentrum-lichtenberg.de/event/gottesdienst-4/
END:VEVENT
BEGIN:VEVENT
DTSTART;TZID=Europe/Berlin:20230929T150000
DTEND;TZID=Europe/Berlin:20230929T150000
DTSTAMP:20260420T082240
CREATED:20230830T081723Z
LAST-MODIFIED:20230830T081723Z
UID:4713-1695999600-1695999600@www.seniorenzentrum-lichtenberg.de
SUMMARY:Kino
DESCRIPTION:
URL:https://www.seniorenzentrum-lichtenberg.de/event/kino/
END:VEVENT
END:VCALENDAR