BEGIN:VCALENDAR
VERSION:2.0
PRODID:-//Seniorenzentrum-Lichtenberg - ECPv6.15.20//NONSGML v1.0//EN
CALSCALE:GREGORIAN
METHOD:PUBLISH
X-WR-CALNAME:Seniorenzentrum-Lichtenberg
X-ORIGINAL-URL:https://www.seniorenzentrum-lichtenberg.de
X-WR-CALDESC:Veranstaltungen für Seniorenzentrum-Lichtenberg
REFRESH-INTERVAL;VALUE=DURATION:PT1H
X-Robots-Tag:noindex
X-PUBLISHED-TTL:PT1H
BEGIN:VTIMEZONE
TZID:Europe/Berlin
BEGIN:DAYLIGHT
TZOFFSETFROM:+0100
TZOFFSETTO:+0200
TZNAME:CEST
DTSTART:20220327T010000
END:DAYLIGHT
BEGIN:STANDARD
TZOFFSETFROM:+0200
TZOFFSETTO:+0100
TZNAME:CET
DTSTART:20221030T010000
END:STANDARD
BEGIN:DAYLIGHT
TZOFFSETFROM:+0100
TZOFFSETTO:+0200
TZNAME:CEST
DTSTART:20230326T010000
END:DAYLIGHT
BEGIN:STANDARD
TZOFFSETFROM:+0200
TZOFFSETTO:+0100
TZNAME:CET
DTSTART:20231029T010000
END:STANDARD
BEGIN:DAYLIGHT
TZOFFSETFROM:+0100
TZOFFSETTO:+0200
TZNAME:CEST
DTSTART:20240331T010000
END:DAYLIGHT
BEGIN:STANDARD
TZOFFSETFROM:+0200
TZOFFSETTO:+0100
TZNAME:CET
DTSTART:20241027T010000
END:STANDARD
END:VTIMEZONE
BEGIN:VEVENT
DTSTART;TZID=Europe/Berlin:20230801T100000
DTEND;TZID=Europe/Berlin:20230801T110000
DTSTAMP:20260420T100109
CREATED:20230728T114133Z
LAST-MODIFIED:20230728T114133Z
UID:4514-1690884000-1690887600@www.seniorenzentrum-lichtenberg.de
SUMMARY:Kraft-Balance-Training
DESCRIPTION:
URL:https://www.seniorenzentrum-lichtenberg.de/event/kraft-balance-training-20/
END:VEVENT
BEGIN:VEVENT
DTSTART;TZID=Europe/Berlin:20230802T100000
DTEND;TZID=Europe/Berlin:20230802T110000
DTSTAMP:20260420T100109
CREATED:20230728T114215Z
LAST-MODIFIED:20230728T114215Z
UID:4516-1690970400-1690974000@www.seniorenzentrum-lichtenberg.de
SUMMARY:Singkreis
DESCRIPTION:
URL:https://www.seniorenzentrum-lichtenberg.de/event/singkreis-20/
END:VEVENT
BEGIN:VEVENT
DTSTART;TZID=Europe/Berlin:20230802T150000
DTEND;TZID=Europe/Berlin:20230802T160000
DTSTAMP:20260420T100109
CREATED:20230728T114304Z
LAST-MODIFIED:20230728T114304Z
UID:4518-1690988400-1690992000@www.seniorenzentrum-lichtenberg.de
SUMMARY:Bingo
DESCRIPTION:
URL:https://www.seniorenzentrum-lichtenberg.de/event/bingo-21/
END:VEVENT
BEGIN:VEVENT
DTSTART;TZID=Europe/Berlin:20230808T100000
DTEND;TZID=Europe/Berlin:20230808T110000
DTSTAMP:20260420T100109
CREATED:20230728T114503Z
LAST-MODIFIED:20230728T114503Z
UID:4520-1691488800-1691492400@www.seniorenzentrum-lichtenberg.de
SUMMARY:Kraft-Balance-Training
DESCRIPTION:
URL:https://www.seniorenzentrum-lichtenberg.de/event/kraft-balance-training-21/
END:VEVENT
BEGIN:VEVENT
DTSTART;TZID=Europe/Berlin:20230808T173000
DTEND;TZID=Europe/Berlin:20230808T190000
DTSTAMP:20260420T100109
CREATED:20230728T114557Z
LAST-MODIFIED:20230728T114557Z
UID:4522-1691515800-1691521200@www.seniorenzentrum-lichtenberg.de
SUMMARY:Nachtschwärmer
DESCRIPTION:
URL:https://www.seniorenzentrum-lichtenberg.de/event/nachtschwaermer-8/
END:VEVENT
BEGIN:VEVENT
DTSTART;TZID=Europe/Berlin:20230809T100000
DTEND;TZID=Europe/Berlin:20230809T110000
DTSTAMP:20260420T100109
CREATED:20230728T114722Z
LAST-MODIFIED:20230728T114722Z
UID:4524-1691575200-1691578800@www.seniorenzentrum-lichtenberg.de
SUMMARY:Singkreis
DESCRIPTION:
URL:https://www.seniorenzentrum-lichtenberg.de/event/singkreis-21/
END:VEVENT
BEGIN:VEVENT
DTSTART;TZID=Europe/Berlin:20230812T110000
DTEND;TZID=Europe/Berlin:20230812T160000
DTSTAMP:20260420T100109
CREATED:20230728T114755Z
LAST-MODIFIED:20230728T114755Z
UID:4526-1691838000-1691856000@www.seniorenzentrum-lichtenberg.de
SUMMARY:Sommerfest
DESCRIPTION:
URL:https://www.seniorenzentrum-lichtenberg.de/event/sommerfest/
END:VEVENT
BEGIN:VEVENT
DTSTART;TZID=Europe/Berlin:20230815T100000
DTEND;TZID=Europe/Berlin:20230815T110000
DTSTAMP:20260420T100109
CREATED:20230728T114838Z
LAST-MODIFIED:20230728T114838Z
UID:4528-1692093600-1692097200@www.seniorenzentrum-lichtenberg.de
SUMMARY:Kraft-Balance-Trainig
DESCRIPTION:
URL:https://www.seniorenzentrum-lichtenberg.de/event/kraft-balance-trainig-7/
END:VEVENT
BEGIN:VEVENT
DTSTART;TZID=Europe/Berlin:20230816T100000
DTEND;TZID=Europe/Berlin:20230816T110000
DTSTAMP:20260420T100109
CREATED:20230728T114916Z
LAST-MODIFIED:20230728T114916Z
UID:4530-1692180000-1692183600@www.seniorenzentrum-lichtenberg.de
SUMMARY:Singkreis
DESCRIPTION:
URL:https://www.seniorenzentrum-lichtenberg.de/event/singkreis-22/
END:VEVENT
BEGIN:VEVENT
DTSTART;TZID=Europe/Berlin:20230820T150000
DTEND;TZID=Europe/Berlin:20230820T170000
DTSTAMP:20260420T100109
CREATED:20230728T115027Z
LAST-MODIFIED:20230728T115027Z
UID:4532-1692543600-1692550800@www.seniorenzentrum-lichtenberg.de
SUMMARY:Die HGL-Singers (bei gutem Wetter im Park)
DESCRIPTION:
URL:https://www.seniorenzentrum-lichtenberg.de/event/die-hgl-singers-bei-gutem-wetter-im-park/
END:VEVENT
BEGIN:VEVENT
DTSTART;TZID=Europe/Berlin:20230822T100000
DTEND;TZID=Europe/Berlin:20230822T110000
DTSTAMP:20260420T100109
CREATED:20230728T115123Z
LAST-MODIFIED:20230728T115123Z
UID:4534-1692698400-1692702000@www.seniorenzentrum-lichtenberg.de
SUMMARY:Kraft-Balance-Trainig
DESCRIPTION:
URL:https://www.seniorenzentrum-lichtenberg.de/event/kraft-balance-trainig-8/
END:VEVENT
BEGIN:VEVENT
DTSTART;TZID=Europe/Berlin:20230822T173000
DTEND;TZID=Europe/Berlin:20230822T190000
DTSTAMP:20260420T100109
CREATED:20230728T115338Z
LAST-MODIFIED:20230728T115338Z
UID:4536-1692725400-1692730800@www.seniorenzentrum-lichtenberg.de
SUMMARY:Nachtschwärmer
DESCRIPTION:
URL:https://www.seniorenzentrum-lichtenberg.de/event/nachtschwaermer-9/
END:VEVENT
BEGIN:VEVENT
DTSTART;TZID=Europe/Berlin:20230823T100000
DTEND;TZID=Europe/Berlin:20230823T110000
DTSTAMP:20260420T100109
CREATED:20230728T120432Z
LAST-MODIFIED:20230728T120432Z
UID:4538-1692784800-1692788400@www.seniorenzentrum-lichtenberg.de
SUMMARY:Singkreis
DESCRIPTION:
URL:https://www.seniorenzentrum-lichtenberg.de/event/singkreis-23/
END:VEVENT
BEGIN:VEVENT
DTSTART;TZID=Europe/Berlin:20230824T100000
DTEND;TZID=Europe/Berlin:20230824T110000
DTSTAMP:20260420T100109
CREATED:20230728T120518Z
LAST-MODIFIED:20230728T120518Z
UID:4540-1692871200-1692874800@www.seniorenzentrum-lichtenberg.de
SUMMARY:Märchenstunde
DESCRIPTION:
URL:https://www.seniorenzentrum-lichtenberg.de/event/maerchenstunde-3/
END:VEVENT
BEGIN:VEVENT
DTSTART;TZID=Europe/Berlin:20230825T150000
DTEND;TZID=Europe/Berlin:20230825T170000
DTSTAMP:20260420T100109
CREATED:20230728T120618Z
LAST-MODIFIED:20230728T121742Z
UID:4542-1692975600-1692982800@www.seniorenzentrum-lichtenberg.de
SUMMARY:Kuchenbäckerei SKFM
DESCRIPTION:
URL:https://www.seniorenzentrum-lichtenberg.de/event/kuchenbaeckerei-skfm-2/
END:VEVENT
BEGIN:VEVENT
DTSTART;TZID=Europe/Berlin:20230827T150000
DTEND;TZID=Europe/Berlin:20230827T163000
DTSTAMP:20260420T100109
CREATED:20230728T120728Z
LAST-MODIFIED:20230728T120728Z
UID:4544-1693148400-1693153800@www.seniorenzentrum-lichtenberg.de
SUMMARY:Waffelbackaktion
DESCRIPTION:
URL:https://www.seniorenzentrum-lichtenberg.de/event/waffelbackaktion/
END:VEVENT
BEGIN:VEVENT
DTSTART;TZID=Europe/Berlin:20230829T100000
DTEND;TZID=Europe/Berlin:20230829T110000
DTSTAMP:20260420T100109
CREATED:20230728T120812Z
LAST-MODIFIED:20230728T120812Z
UID:4546-1693303200-1693306800@www.seniorenzentrum-lichtenberg.de
SUMMARY:Kraft-Balance- Training
DESCRIPTION:
URL:https://www.seniorenzentrum-lichtenberg.de/event/kraft-balance-training-22/
END:VEVENT
BEGIN:VEVENT
DTSTART;TZID=Europe/Berlin:20230830T100000
DTEND;TZID=Europe/Berlin:20230830T110000
DTSTAMP:20260420T100109
CREATED:20230728T120843Z
LAST-MODIFIED:20230728T120843Z
UID:4548-1693389600-1693393200@www.seniorenzentrum-lichtenberg.de
SUMMARY:Singkreis
DESCRIPTION:
URL:https://www.seniorenzentrum-lichtenberg.de/event/singkreis-24/
END:VEVENT
BEGIN:VEVENT
DTSTART;TZID=Europe/Berlin:20230831T103000
DTEND;TZID=Europe/Berlin:20230831T113000
DTSTAMP:20260420T100109
CREATED:20230728T120927Z
LAST-MODIFIED:20230728T120927Z
UID:4550-1693477800-1693481400@www.seniorenzentrum-lichtenberg.de
SUMMARY:Gottesdienst
DESCRIPTION:
URL:https://www.seniorenzentrum-lichtenberg.de/event/gottesdienst-3/
END:VEVENT
END:VCALENDAR