BEGIN:VCALENDAR
VERSION:2.0
PRODID:-//Seniorenzentrum-Lichtenberg - ECPv6.15.20//NONSGML v1.0//EN
CALSCALE:GREGORIAN
METHOD:PUBLISH
X-WR-CALNAME:Seniorenzentrum-Lichtenberg
X-ORIGINAL-URL:https://www.seniorenzentrum-lichtenberg.de
X-WR-CALDESC:Veranstaltungen für Seniorenzentrum-Lichtenberg
REFRESH-INTERVAL;VALUE=DURATION:PT1H
X-Robots-Tag:noindex
X-PUBLISHED-TTL:PT1H
BEGIN:VTIMEZONE
TZID:Europe/Berlin
BEGIN:DAYLIGHT
TZOFFSETFROM:+0100
TZOFFSETTO:+0200
TZNAME:CEST
DTSTART:20220327T010000
END:DAYLIGHT
BEGIN:STANDARD
TZOFFSETFROM:+0200
TZOFFSETTO:+0100
TZNAME:CET
DTSTART:20221030T010000
END:STANDARD
BEGIN:DAYLIGHT
TZOFFSETFROM:+0100
TZOFFSETTO:+0200
TZNAME:CEST
DTSTART:20230326T010000
END:DAYLIGHT
BEGIN:STANDARD
TZOFFSETFROM:+0200
TZOFFSETTO:+0100
TZNAME:CET
DTSTART:20231029T010000
END:STANDARD
BEGIN:DAYLIGHT
TZOFFSETFROM:+0100
TZOFFSETTO:+0200
TZNAME:CEST
DTSTART:20240331T010000
END:DAYLIGHT
BEGIN:STANDARD
TZOFFSETFROM:+0200
TZOFFSETTO:+0100
TZNAME:CET
DTSTART:20241027T010000
END:STANDARD
END:VTIMEZONE
BEGIN:VEVENT
DTSTART;TZID=Europe/Berlin:20230602T150000
DTEND;TZID=Europe/Berlin:20230602T163000
DTSTAMP:20260420T133606
CREATED:20230601T082336Z
LAST-MODIFIED:20230601T082336Z
UID:4404-1685718000-1685723400@www.seniorenzentrum-lichtenberg.de
SUMMARY:Musikschule im Haus
DESCRIPTION:
URL:https://www.seniorenzentrum-lichtenberg.de/event/musikschule-im-haus/
END:VEVENT
BEGIN:VEVENT
DTSTART;TZID=Europe/Berlin:20230604T150000
DTEND;TZID=Europe/Berlin:20230604T153000
DTSTAMP:20260420T133606
CREATED:20230601T083455Z
LAST-MODIFIED:20230601T083455Z
UID:4430-1685890800-1685892600@www.seniorenzentrum-lichtenberg.de
SUMMARY:Bunte Luftblasenshow
DESCRIPTION:
URL:https://www.seniorenzentrum-lichtenberg.de/event/bunte-luftblasenshow/
END:VEVENT
BEGIN:VEVENT
DTSTART;TZID=Europe/Berlin:20230606T100000
DTEND;TZID=Europe/Berlin:20230606T110000
DTSTAMP:20260420T133606
CREATED:20230601T082457Z
LAST-MODIFIED:20230601T082457Z
UID:4406-1686045600-1686049200@www.seniorenzentrum-lichtenberg.de
SUMMARY:Kraft-Balance-Trainig
DESCRIPTION:
URL:https://www.seniorenzentrum-lichtenberg.de/event/kraft-balance-trainig-3/
END:VEVENT
BEGIN:VEVENT
DTSTART;TZID=Europe/Berlin:20230607T100000
DTEND;TZID=Europe/Berlin:20230607T110000
DTSTAMP:20260420T133606
CREATED:20230601T082751Z
LAST-MODIFIED:20230601T082751Z
UID:4414-1686132000-1686135600@www.seniorenzentrum-lichtenberg.de
SUMMARY:Singkreis
DESCRIPTION:
URL:https://www.seniorenzentrum-lichtenberg.de/event/singkreis-12/
END:VEVENT
BEGIN:VEVENT
DTSTART;TZID=Europe/Berlin:20230609T180000
DTEND;TZID=Europe/Berlin:20230609T193000
DTSTAMP:20260420T133606
CREATED:20230601T083543Z
LAST-MODIFIED:20230601T083543Z
UID:4432-1686333600-1686339000@www.seniorenzentrum-lichtenberg.de
SUMMARY:Nachtschwärmer
DESCRIPTION:
URL:https://www.seniorenzentrum-lichtenberg.de/event/nachtschwaermer-5/
END:VEVENT
BEGIN:VEVENT
DTSTART;TZID=Europe/Berlin:20230611T150000
DTEND;TZID=Europe/Berlin:20230611T163000
DTSTAMP:20260420T133606
CREATED:20230601T083719Z
LAST-MODIFIED:20230601T083719Z
UID:4434-1686495600-1686501000@www.seniorenzentrum-lichtenberg.de
SUMMARY:Die HGL-Singers - Singen und Bewegung
DESCRIPTION:
URL:https://www.seniorenzentrum-lichtenberg.de/event/die-hgl-singers-singen-und-bewegung/
END:VEVENT
BEGIN:VEVENT
DTSTART;TZID=Europe/Berlin:20230613T100000
DTEND;TZID=Europe/Berlin:20230613T110000
DTSTAMP:20260420T133606
CREATED:20230601T082532Z
LAST-MODIFIED:20230601T082532Z
UID:4408-1686650400-1686654000@www.seniorenzentrum-lichtenberg.de
SUMMARY:Kraft-Balance-Trainig
DESCRIPTION:
URL:https://www.seniorenzentrum-lichtenberg.de/event/kraft-balance-trainig-4/
END:VEVENT
BEGIN:VEVENT
DTSTART;TZID=Europe/Berlin:20230614T100000
DTEND;TZID=Europe/Berlin:20230614T110000
DTSTAMP:20260420T133606
CREATED:20230601T082828Z
LAST-MODIFIED:20230601T082828Z
UID:4416-1686736800-1686740400@www.seniorenzentrum-lichtenberg.de
SUMMARY:Singkreis
DESCRIPTION:
URL:https://www.seniorenzentrum-lichtenberg.de/event/singkreis-13/
END:VEVENT
BEGIN:VEVENT
DTSTART;TZID=Europe/Berlin:20230614T150000
DTEND;TZID=Europe/Berlin:20230614T163000
DTSTAMP:20260420T133606
CREATED:20230601T083023Z
LAST-MODIFIED:20230601T083023Z
UID:4422-1686754800-1686760200@www.seniorenzentrum-lichtenberg.de
SUMMARY:Bingo
DESCRIPTION:
URL:https://www.seniorenzentrum-lichtenberg.de/event/bingo-17/
END:VEVENT
BEGIN:VEVENT
DTSTART;TZID=Europe/Berlin:20230616T150000
DTEND;TZID=Europe/Berlin:20230616T163000
DTSTAMP:20260420T133606
CREATED:20230601T083247Z
LAST-MODIFIED:20230601T083247Z
UID:4428-1686927600-1686933000@www.seniorenzentrum-lichtenberg.de
SUMMARY:Kuchenbäckerei mit SKFM
DESCRIPTION:
URL:https://www.seniorenzentrum-lichtenberg.de/event/kuchenbaeckerei-mit-skfm-4/
END:VEVENT
BEGIN:VEVENT
DTSTART;TZID=Europe/Berlin:20230620T100000
DTEND;TZID=Europe/Berlin:20230620T110000
DTSTAMP:20260420T133606
CREATED:20230601T082647Z
LAST-MODIFIED:20230601T082647Z
UID:4410-1687255200-1687258800@www.seniorenzentrum-lichtenberg.de
SUMMARY:Kraft-Balance-Trainig
DESCRIPTION:
URL:https://www.seniorenzentrum-lichtenberg.de/event/kraft-balance-trainig-5/
END:VEVENT
BEGIN:VEVENT
DTSTART;TZID=Europe/Berlin:20230621T100000
DTEND;TZID=Europe/Berlin:20230621T110000
DTSTAMP:20260420T133606
CREATED:20230601T082916Z
LAST-MODIFIED:20230601T082916Z
UID:4418-1687341600-1687345200@www.seniorenzentrum-lichtenberg.de
SUMMARY:Singkreis
DESCRIPTION:
URL:https://www.seniorenzentrum-lichtenberg.de/event/singkreis-14/
END:VEVENT
BEGIN:VEVENT
DTSTART;TZID=Europe/Berlin:20230622T100000
DTEND;TZID=Europe/Berlin:20230622T110000
DTSTAMP:20260420T133606
CREATED:20230601T083149Z
LAST-MODIFIED:20230601T083200Z
UID:4426-1687428000-1687431600@www.seniorenzentrum-lichtenberg.de
SUMMARY:Gottesdienst
DESCRIPTION:
URL:https://www.seniorenzentrum-lichtenberg.de/event/gottesdienst/
END:VEVENT
BEGIN:VEVENT
DTSTART;TZID=Europe/Berlin:20230624T173000
DTEND;TZID=Europe/Berlin:20230624T190000
DTSTAMP:20260420T133606
CREATED:20230601T083826Z
LAST-MODIFIED:20230601T083826Z
UID:4436-1687627800-1687633200@www.seniorenzentrum-lichtenberg.de
SUMMARY:Cocktailparty im Park
DESCRIPTION:
URL:https://www.seniorenzentrum-lichtenberg.de/event/cocktailparty-im-park/
END:VEVENT
BEGIN:VEVENT
DTSTART;TZID=Europe/Berlin:20230625T150000
DTEND;TZID=Europe/Berlin:20230625T163000
DTSTAMP:20260420T133606
CREATED:20230601T084554Z
LAST-MODIFIED:20230601T084554Z
UID:4439-1687705200-1687710600@www.seniorenzentrum-lichtenberg.de
SUMMARY:Waffelbackaktion - mit Liebe gebacken
DESCRIPTION:
URL:https://www.seniorenzentrum-lichtenberg.de/event/waffelbackaktion-mit-liebe-gebacken-4/
END:VEVENT
BEGIN:VEVENT
DTSTART;TZID=Europe/Berlin:20230627T100000
DTEND;TZID=Europe/Berlin:20230627T110000
DTSTAMP:20260420T133606
CREATED:20230601T082714Z
LAST-MODIFIED:20230601T082714Z
UID:4412-1687860000-1687863600@www.seniorenzentrum-lichtenberg.de
SUMMARY:Kraft-Balance-Trainig
DESCRIPTION:
URL:https://www.seniorenzentrum-lichtenberg.de/event/kraft-balance-trainig-6/
END:VEVENT
BEGIN:VEVENT
DTSTART;TZID=Europe/Berlin:20230628T100000
DTEND;TZID=Europe/Berlin:20230628T110000
DTSTAMP:20260420T133606
CREATED:20230601T082942Z
LAST-MODIFIED:20230601T082942Z
UID:4420-1687946400-1687950000@www.seniorenzentrum-lichtenberg.de
SUMMARY:Singkreis
DESCRIPTION:
URL:https://www.seniorenzentrum-lichtenberg.de/event/singkreis-15/
END:VEVENT
BEGIN:VEVENT
DTSTART;TZID=Europe/Berlin:20230628T150000
DTEND;TZID=Europe/Berlin:20230628T163000
DTSTAMP:20260420T133606
CREATED:20230601T083056Z
LAST-MODIFIED:20230601T083056Z
UID:4424-1687964400-1687969800@www.seniorenzentrum-lichtenberg.de
SUMMARY:Bingo
DESCRIPTION:
URL:https://www.seniorenzentrum-lichtenberg.de/event/bingo-18/
END:VEVENT
END:VCALENDAR