BEGIN:VCALENDAR
VERSION:2.0
PRODID:-//Seniorenzentrum-Lichtenberg - ECPv6.15.20//NONSGML v1.0//EN
CALSCALE:GREGORIAN
METHOD:PUBLISH
X-ORIGINAL-URL:https://www.seniorenzentrum-lichtenberg.de
X-WR-CALDESC:Veranstaltungen für Seniorenzentrum-Lichtenberg
REFRESH-INTERVAL;VALUE=DURATION:PT1H
X-Robots-Tag:noindex
X-PUBLISHED-TTL:PT1H
BEGIN:VTIMEZONE
TZID:Europe/Berlin
BEGIN:DAYLIGHT
TZOFFSETFROM:+0100
TZOFFSETTO:+0200
TZNAME:CEST
DTSTART:20220327T010000
END:DAYLIGHT
BEGIN:STANDARD
TZOFFSETFROM:+0200
TZOFFSETTO:+0100
TZNAME:CET
DTSTART:20221030T010000
END:STANDARD
BEGIN:DAYLIGHT
TZOFFSETFROM:+0100
TZOFFSETTO:+0200
TZNAME:CEST
DTSTART:20230326T010000
END:DAYLIGHT
BEGIN:STANDARD
TZOFFSETFROM:+0200
TZOFFSETTO:+0100
TZNAME:CET
DTSTART:20231029T010000
END:STANDARD
BEGIN:DAYLIGHT
TZOFFSETFROM:+0100
TZOFFSETTO:+0200
TZNAME:CEST
DTSTART:20240331T010000
END:DAYLIGHT
BEGIN:STANDARD
TZOFFSETFROM:+0200
TZOFFSETTO:+0100
TZNAME:CET
DTSTART:20241027T010000
END:STANDARD
END:VTIMEZONE
BEGIN:VEVENT
DTSTART;TZID=Europe/Berlin:20230301T100000
DTEND;TZID=Europe/Berlin:20230301T110000
DTSTAMP:20260420T183748
CREATED:20230213T083405Z
LAST-MODIFIED:20230213T083405Z
UID:4235-1677664800-1677668400@www.seniorenzentrum-lichtenberg.de
SUMMARY:Singkreis
DESCRIPTION:
URL:https://www.seniorenzentrum-lichtenberg.de/event/singkreis/
END:VEVENT
BEGIN:VEVENT
DTSTART;TZID=Europe/Berlin:20230301T150000
DTEND;TZID=Europe/Berlin:20230301T160000
DTSTAMP:20260420T183748
CREATED:20230213T083309Z
LAST-MODIFIED:20230213T083309Z
UID:4233-1677682800-1677686400@www.seniorenzentrum-lichtenberg.de
SUMMARY:Bingo
DESCRIPTION:
URL:https://www.seniorenzentrum-lichtenberg.de/event/bingo-10/
END:VEVENT
BEGIN:VEVENT
DTSTART;TZID=Europe/Berlin:20230302T143000
DTEND;TZID=Europe/Berlin:20230302T170000
DTSTAMP:20260420T183748
CREATED:20230213T083452Z
LAST-MODIFIED:20230213T083452Z
UID:4237-1677767400-1677776400@www.seniorenzentrum-lichtenberg.de
SUMMARY:Kaffeefahrt nach Holpe
DESCRIPTION:
URL:https://www.seniorenzentrum-lichtenberg.de/event/kaffeefahrt-nach-holpe/
END:VEVENT
BEGIN:VEVENT
DTSTART;TZID=Europe/Berlin:20230305T153000
DTEND;TZID=Europe/Berlin:20230305T170000
DTSTAMP:20260420T183748
CREATED:20230213T083549Z
LAST-MODIFIED:20230213T083549Z
UID:4239-1678030200-1678035600@www.seniorenzentrum-lichtenberg.de
SUMMARY:Die HGL-Singers on Tour
DESCRIPTION:
URL:https://www.seniorenzentrum-lichtenberg.de/event/die-hgl-singers-on-tour-2/
END:VEVENT
BEGIN:VEVENT
DTSTART;TZID=Europe/Berlin:20230307T100000
DTEND;TZID=Europe/Berlin:20230307T110000
DTSTAMP:20260420T183748
CREATED:20230213T083709Z
LAST-MODIFIED:20230213T083709Z
UID:4242-1678183200-1678186800@www.seniorenzentrum-lichtenberg.de
SUMMARY:Kraft-Balance-Training
DESCRIPTION:
URL:https://www.seniorenzentrum-lichtenberg.de/event/kraft-balance-training-4/
END:VEVENT
BEGIN:VEVENT
DTSTART;TZID=Europe/Berlin:20230308T100000
DTEND;TZID=Europe/Berlin:20230308T110000
DTSTAMP:20260420T183748
CREATED:20230213T090633Z
LAST-MODIFIED:20230213T090633Z
UID:4256-1678269600-1678273200@www.seniorenzentrum-lichtenberg.de
SUMMARY:Singkreis
DESCRIPTION:
URL:https://www.seniorenzentrum-lichtenberg.de/event/singkreis-3/
END:VEVENT
BEGIN:VEVENT
DTSTART;TZID=Europe/Berlin:20230310T150000
DTEND;TZID=Europe/Berlin:20230310T163000
DTSTAMP:20260420T183748
CREATED:20230213T083815Z
LAST-MODIFIED:20230213T083815Z
UID:4244-1678460400-1678465800@www.seniorenzentrum-lichtenberg.de
SUMMARY:Kuchenbäckerei mit SKFM
DESCRIPTION:
URL:https://www.seniorenzentrum-lichtenberg.de/event/kuchenbaeckerei-mit-skfm-2/
END:VEVENT
BEGIN:VEVENT
DTSTART;TZID=Europe/Berlin:20230314T100000
DTEND;TZID=Europe/Berlin:20230314T110000
DTSTAMP:20260420T183748
CREATED:20230213T083858Z
LAST-MODIFIED:20230213T083858Z
UID:4246-1678788000-1678791600@www.seniorenzentrum-lichtenberg.de
SUMMARY:Kraft-Balance-Training
DESCRIPTION:
URL:https://www.seniorenzentrum-lichtenberg.de/event/kraft-balance-training-5/
END:VEVENT
BEGIN:VEVENT
DTSTART;TZID=Europe/Berlin:20230314T183000
DTEND;TZID=Europe/Berlin:20230314T200000
DTSTAMP:20260420T183748
CREATED:20230213T085351Z
LAST-MODIFIED:20230213T085351Z
UID:4248-1678818600-1678824000@www.seniorenzentrum-lichtenberg.de
SUMMARY:Nachtschwärmer *Music Pub*
DESCRIPTION:
URL:https://www.seniorenzentrum-lichtenberg.de/event/nachtschwaermer-music-pub/
END:VEVENT
BEGIN:VEVENT
DTSTART;TZID=Europe/Berlin:20230315T100000
DTEND;TZID=Europe/Berlin:20230315T110000
DTSTAMP:20260420T183748
CREATED:20230213T085438Z
LAST-MODIFIED:20230213T085438Z
UID:4250-1678874400-1678878000@www.seniorenzentrum-lichtenberg.de
SUMMARY:Singkreis
DESCRIPTION:
URL:https://www.seniorenzentrum-lichtenberg.de/event/singkreis-2/
END:VEVENT
BEGIN:VEVENT
DTSTART;TZID=Europe/Berlin:20230315T150000
DTEND;TZID=Europe/Berlin:20230315T160000
DTSTAMP:20260420T183748
CREATED:20230213T090724Z
LAST-MODIFIED:20230213T090724Z
UID:4258-1678892400-1678896000@www.seniorenzentrum-lichtenberg.de
SUMMARY:Bingo
DESCRIPTION:
URL:https://www.seniorenzentrum-lichtenberg.de/event/bingo-12/
END:VEVENT
BEGIN:VEVENT
DTSTART;TZID=Europe/Berlin:20230316T103000
DTEND;TZID=Europe/Berlin:20230316T113000
DTSTAMP:20260420T183748
CREATED:20230213T085700Z
LAST-MODIFIED:20230213T090348Z
UID:4252-1678962600-1678966200@www.seniorenzentrum-lichtenberg.de
SUMMARY:Gottesdienst
DESCRIPTION:
URL:https://www.seniorenzentrum-lichtenberg.de/event/bingo-11/
END:VEVENT
BEGIN:VEVENT
DTSTART;TZID=Europe/Berlin:20230316T183000
DTEND;TZID=Europe/Berlin:20230316T200000
DTSTAMP:20260420T183748
CREATED:20230316T141930Z
LAST-MODIFIED:20230316T141930Z
UID:4346-1678991400-1678996800@www.seniorenzentrum-lichtenberg.de
SUMMARY:Nachtschwärmer *Stammtisch*
DESCRIPTION:
URL:https://www.seniorenzentrum-lichtenberg.de/event/nachtschwaermer-stammtisch-4/
END:VEVENT
BEGIN:VEVENT
DTSTART;TZID=Europe/Berlin:20230321T100000
DTEND;TZID=Europe/Berlin:20230321T110000
DTSTAMP:20260420T183748
CREATED:20230213T090857Z
LAST-MODIFIED:20230213T090857Z
UID:4260-1679392800-1679396400@www.seniorenzentrum-lichtenberg.de
SUMMARY:Kraft-Balance-Training
DESCRIPTION:
URL:https://www.seniorenzentrum-lichtenberg.de/event/kraft-balance-training-6/
END:VEVENT
BEGIN:VEVENT
DTSTART;TZID=Europe/Berlin:20230321T183000
DTEND;TZID=Europe/Berlin:20230321T200000
DTSTAMP:20260420T183748
CREATED:20230213T090945Z
LAST-MODIFIED:20230213T092127Z
UID:4262-1679423400-1679428800@www.seniorenzentrum-lichtenberg.de
SUMMARY:Nachtschwärmer *Stammtisch*
DESCRIPTION:
URL:https://www.seniorenzentrum-lichtenberg.de/event/nachtschwaermer-stammtisch-3/
END:VEVENT
BEGIN:VEVENT
DTSTART;TZID=Europe/Berlin:20230322T100000
DTEND;TZID=Europe/Berlin:20230322T110000
DTSTAMP:20260420T183748
CREATED:20230213T091037Z
LAST-MODIFIED:20230213T091037Z
UID:4264-1679479200-1679482800@www.seniorenzentrum-lichtenberg.de
SUMMARY:Singkreis
DESCRIPTION:
URL:https://www.seniorenzentrum-lichtenberg.de/event/singkreis-4/
END:VEVENT
BEGIN:VEVENT
DTSTART;TZID=Europe/Berlin:20230326T150000
DTEND;TZID=Europe/Berlin:20230326T170000
DTSTAMP:20260420T183748
CREATED:20230310T100549Z
LAST-MODIFIED:20230310T100549Z
UID:4306-1679842800-1679850000@www.seniorenzentrum-lichtenberg.de
SUMMARY:Waffelbackaktion - mit Liebe gebacken
DESCRIPTION:
URL:https://www.seniorenzentrum-lichtenberg.de/event/waffelbackaktion-mit-liebe-gebacken/
END:VEVENT
BEGIN:VEVENT
DTSTART;TZID=Europe/Berlin:20230328T100000
DTEND;TZID=Europe/Berlin:20230328T110000
DTSTAMP:20260420T183748
CREATED:20230213T091256Z
LAST-MODIFIED:20230310T100900Z
UID:4268-1679997600-1680001200@www.seniorenzentrum-lichtenberg.de
SUMMARY:Kraft-Balance-Training
DESCRIPTION:
URL:https://www.seniorenzentrum-lichtenberg.de/event/kraft-balance-training-7/
END:VEVENT
BEGIN:VEVENT
DTSTART;TZID=Europe/Berlin:20230329T100000
DTEND;TZID=Europe/Berlin:20230329T110000
DTSTAMP:20260420T183748
CREATED:20230213T091342Z
LAST-MODIFIED:20230213T091811Z
UID:4270-1680084000-1680087600@www.seniorenzentrum-lichtenberg.de
SUMMARY:Singkreis
DESCRIPTION:
URL:https://www.seniorenzentrum-lichtenberg.de/event/singkreis-5/
END:VEVENT
BEGIN:VEVENT
DTSTART;TZID=Europe/Berlin:20230330T153000
DTEND;TZID=Europe/Berlin:20230330T170000
DTSTAMP:20260420T183748
CREATED:20230213T091426Z
LAST-MODIFIED:20230213T091426Z
UID:4272-1680190200-1680195600@www.seniorenzentrum-lichtenberg.de
SUMMARY:Kinotag
DESCRIPTION:
URL:https://www.seniorenzentrum-lichtenberg.de/event/kinotag-4/
END:VEVENT
END:VCALENDAR