BEGIN:VCALENDAR
VERSION:2.0
PRODID:-//Seniorenzentrum-Lichtenberg - ECPv6.15.20//NONSGML v1.0//EN
CALSCALE:GREGORIAN
METHOD:PUBLISH
X-WR-CALNAME:Seniorenzentrum-Lichtenberg
X-ORIGINAL-URL:https://www.seniorenzentrum-lichtenberg.de
X-WR-CALDESC:Veranstaltungen für Seniorenzentrum-Lichtenberg
REFRESH-INTERVAL;VALUE=DURATION:PT1H
X-Robots-Tag:noindex
X-PUBLISHED-TTL:PT1H
BEGIN:VTIMEZONE
TZID:Europe/Berlin
BEGIN:DAYLIGHT
TZOFFSETFROM:+0100
TZOFFSETTO:+0200
TZNAME:CEST
DTSTART:20210328T010000
END:DAYLIGHT
BEGIN:STANDARD
TZOFFSETFROM:+0200
TZOFFSETTO:+0100
TZNAME:CET
DTSTART:20211031T010000
END:STANDARD
BEGIN:DAYLIGHT
TZOFFSETFROM:+0100
TZOFFSETTO:+0200
TZNAME:CEST
DTSTART:20220327T010000
END:DAYLIGHT
BEGIN:STANDARD
TZOFFSETFROM:+0200
TZOFFSETTO:+0100
TZNAME:CET
DTSTART:20221030T010000
END:STANDARD
BEGIN:DAYLIGHT
TZOFFSETFROM:+0100
TZOFFSETTO:+0200
TZNAME:CEST
DTSTART:20230326T010000
END:DAYLIGHT
BEGIN:STANDARD
TZOFFSETFROM:+0200
TZOFFSETTO:+0100
TZNAME:CET
DTSTART:20231029T010000
END:STANDARD
END:VTIMEZONE
BEGIN:VEVENT
DTSTART;VALUE=DATE:20220412
DTEND;VALUE=DATE:20220413
DTSTAMP:20260423T121316
CREATED:20220408T074421Z
LAST-MODIFIED:20220408T074421Z
UID:4025-1649721600-1649807999@www.seniorenzentrum-lichtenberg.de
SUMMARY:Kinotag
DESCRIPTION:
URL:https://www.seniorenzentrum-lichtenberg.de/event/kinotag-2/
ATTACH;FMTTYPE=image/png:https://www.seniorenzentrum-lichtenberg.de/wp-content/uploads/2021/10/Kino.png
END:VEVENT
BEGIN:VEVENT
DTSTART;VALUE=DATE:20220413
DTEND;VALUE=DATE:20220414
DTSTAMP:20260423T121316
CREATED:20220408T074615Z
LAST-MODIFIED:20220408T080029Z
UID:4027-1649808000-1649894399@www.seniorenzentrum-lichtenberg.de
SUMMARY:Kraft-Balance-Training
DESCRIPTION:
URL:https://www.seniorenzentrum-lichtenberg.de/event/kraft-balance-training/
ATTACH;FMTTYPE=image/jpeg:https://www.seniorenzentrum-lichtenberg.de/wp-content/uploads/2020/03/067.jpg
END:VEVENT
BEGIN:VEVENT
DTSTART;VALUE=DATE:20220414
DTEND;VALUE=DATE:20220415
DTSTAMP:20260423T121316
CREATED:20220408T080415Z
LAST-MODIFIED:20220408T080415Z
UID:4029-1649894400-1649980799@www.seniorenzentrum-lichtenberg.de
SUMMARY:Bingo
DESCRIPTION:
URL:https://www.seniorenzentrum-lichtenberg.de/event/bingo-8/
ATTACH;FMTTYPE=image/jpeg:https://www.seniorenzentrum-lichtenberg.de/wp-content/uploads/2021/09/Bingo.jpg
END:VEVENT
BEGIN:VEVENT
DTSTART;VALUE=DATE:20220420
DTEND;VALUE=DATE:20220421
DTSTAMP:20260423T121316
CREATED:20220408T080633Z
LAST-MODIFIED:20220408T080633Z
UID:4031-1650412800-1650499199@www.seniorenzentrum-lichtenberg.de
SUMMARY:Kraft-Balance-Training
DESCRIPTION:
URL:https://www.seniorenzentrum-lichtenberg.de/event/kraft-balance-training-2/
ATTACH;FMTTYPE=image/jpeg:https://www.seniorenzentrum-lichtenberg.de/wp-content/uploads/2020/03/064-1.jpg
END:VEVENT
BEGIN:VEVENT
DTSTART;VALUE=DATE:20220421
DTEND;VALUE=DATE:20220422
DTSTAMP:20260423T121316
CREATED:20220408T080745Z
LAST-MODIFIED:20220408T080745Z
UID:4033-1650499200-1650585599@www.seniorenzentrum-lichtenberg.de
SUMMARY:Marktfahrt
DESCRIPTION:
URL:https://www.seniorenzentrum-lichtenberg.de/event/marktfahrt-3/
END:VEVENT
BEGIN:VEVENT
DTSTART;VALUE=DATE:20220426
DTEND;VALUE=DATE:20220427
DTSTAMP:20260423T121316
CREATED:20220408T080851Z
LAST-MODIFIED:20220408T080851Z
UID:4035-1650931200-1651017599@www.seniorenzentrum-lichtenberg.de
SUMMARY:Bingo
DESCRIPTION:
URL:https://www.seniorenzentrum-lichtenberg.de/event/bingo-9/
ATTACH;FMTTYPE=image/jpeg:https://www.seniorenzentrum-lichtenberg.de/wp-content/uploads/2021/09/Bingo.jpg
END:VEVENT
BEGIN:VEVENT
DTSTART;VALUE=DATE:20220427
DTEND;VALUE=DATE:20220428
DTSTAMP:20260423T121316
CREATED:20220408T081106Z
LAST-MODIFIED:20220408T081106Z
UID:4037-1651017600-1651103999@www.seniorenzentrum-lichtenberg.de
SUMMARY:Kraft-Banace-Training
DESCRIPTION:
URL:https://www.seniorenzentrum-lichtenberg.de/event/kraft-banace-training/
ATTACH;FMTTYPE=image/jpeg:https://www.seniorenzentrum-lichtenberg.de/wp-content/uploads/2020/03/064-1.jpg
END:VEVENT
BEGIN:VEVENT
DTSTART;VALUE=DATE:20220428
DTEND;VALUE=DATE:20220429
DTSTAMP:20260423T121316
CREATED:20220408T081210Z
LAST-MODIFIED:20220408T081210Z
UID:4039-1651104000-1651190399@www.seniorenzentrum-lichtenberg.de
SUMMARY:Männerstammtisch
DESCRIPTION:
URL:https://www.seniorenzentrum-lichtenberg.de/event/maennerstammtisch/
END:VEVENT
BEGIN:VEVENT
DTSTART;VALUE=DATE:20220429
DTEND;VALUE=DATE:20220430
DTSTAMP:20260423T121316
CREATED:20220408T082401Z
LAST-MODIFIED:20220408T082401Z
UID:4041-1651190400-1651276799@www.seniorenzentrum-lichtenberg.de
SUMMARY:Kuchenbäckerei mit SKFM
DESCRIPTION:
URL:https://www.seniorenzentrum-lichtenberg.de/event/kuchenbaeckerei-mit-skfm/
ATTACH;FMTTYPE=image/jpeg:https://www.seniorenzentrum-lichtenberg.de/wp-content/uploads/2021/09/waffle-878198_1920.jpg
END:VEVENT
END:VCALENDAR