BEGIN:VCALENDAR
VERSION:2.0
PRODID:-//Seniorenzentrum-Lichtenberg - ECPv6.15.20//NONSGML v1.0//EN
CALSCALE:GREGORIAN
METHOD:PUBLISH
X-ORIGINAL-URL:https://www.seniorenzentrum-lichtenberg.de
X-WR-CALDESC:Veranstaltungen für Seniorenzentrum-Lichtenberg
REFRESH-INTERVAL;VALUE=DURATION:PT1H
X-Robots-Tag:noindex
X-PUBLISHED-TTL:PT1H
BEGIN:VTIMEZONE
TZID:Europe/Berlin
BEGIN:DAYLIGHT
TZOFFSETFROM:+0100
TZOFFSETTO:+0200
TZNAME:CEST
DTSTART:20220327T010000
END:DAYLIGHT
BEGIN:STANDARD
TZOFFSETFROM:+0200
TZOFFSETTO:+0100
TZNAME:CET
DTSTART:20221030T010000
END:STANDARD
BEGIN:DAYLIGHT
TZOFFSETFROM:+0100
TZOFFSETTO:+0200
TZNAME:CEST
DTSTART:20230326T010000
END:DAYLIGHT
BEGIN:STANDARD
TZOFFSETFROM:+0200
TZOFFSETTO:+0100
TZNAME:CET
DTSTART:20231029T010000
END:STANDARD
BEGIN:DAYLIGHT
TZOFFSETFROM:+0100
TZOFFSETTO:+0200
TZNAME:CEST
DTSTART:20240331T010000
END:DAYLIGHT
BEGIN:STANDARD
TZOFFSETFROM:+0200
TZOFFSETTO:+0100
TZNAME:CET
DTSTART:20241027T010000
END:STANDARD
END:VTIMEZONE
BEGIN:VEVENT
DTSTART;TZID=Europe/Berlin:20231031T100000
DTEND;TZID=Europe/Berlin:20231031T110000
DTSTAMP:20260420T063314
CREATED:20231011T135058Z
LAST-MODIFIED:20231011T135058Z
UID:4787-1698746400-1698750000@www.seniorenzentrum-lichtenberg.de
SUMMARY:Kraft-Balance-Training
DESCRIPTION:
URL:https://www.seniorenzentrum-lichtenberg.de/event/kraft-balance-training-30/
END:VEVENT
BEGIN:VEVENT
DTSTART;TZID=Europe/Berlin:20231031T173000
DTEND;TZID=Europe/Berlin:20231031T190000
DTSTAMP:20260420T063314
CREATED:20231011T135300Z
LAST-MODIFIED:20231011T135300Z
UID:4789-1698773400-1698778800@www.seniorenzentrum-lichtenberg.de
SUMMARY:Nachtschwärmer
DESCRIPTION:
URL:https://www.seniorenzentrum-lichtenberg.de/event/nachtschwaermer-11/
END:VEVENT
END:VCALENDAR