BEGIN:VCALENDAR
VERSION:2.0
PRODID:-//Seniorenzentrum-Lichtenberg - ECPv6.15.20//NONSGML v1.0//EN
CALSCALE:GREGORIAN
METHOD:PUBLISH
X-WR-CALNAME:Seniorenzentrum-Lichtenberg
X-ORIGINAL-URL:https://www.seniorenzentrum-lichtenberg.de
X-WR-CALDESC:Veranstaltungen für Seniorenzentrum-Lichtenberg
REFRESH-INTERVAL;VALUE=DURATION:PT1H
X-Robots-Tag:noindex
X-PUBLISHED-TTL:PT1H
BEGIN:VTIMEZONE
TZID:Europe/Berlin
BEGIN:DAYLIGHT
TZOFFSETFROM:+0100
TZOFFSETTO:+0200
TZNAME:CEST
DTSTART:20220327T010000
END:DAYLIGHT
BEGIN:STANDARD
TZOFFSETFROM:+0200
TZOFFSETTO:+0100
TZNAME:CET
DTSTART:20221030T010000
END:STANDARD
BEGIN:DAYLIGHT
TZOFFSETFROM:+0100
TZOFFSETTO:+0200
TZNAME:CEST
DTSTART:20230326T010000
END:DAYLIGHT
BEGIN:STANDARD
TZOFFSETFROM:+0200
TZOFFSETTO:+0100
TZNAME:CET
DTSTART:20231029T010000
END:STANDARD
BEGIN:DAYLIGHT
TZOFFSETFROM:+0100
TZOFFSETTO:+0200
TZNAME:CEST
DTSTART:20240331T010000
END:DAYLIGHT
BEGIN:STANDARD
TZOFFSETFROM:+0200
TZOFFSETTO:+0100
TZNAME:CET
DTSTART:20241027T010000
END:STANDARD
END:VTIMEZONE
BEGIN:VEVENT
DTSTART;TZID=Europe/Berlin:20230418T100000
DTEND;TZID=Europe/Berlin:20230418T110000
DTSTAMP:20260420T182429
CREATED:20230316T141834Z
LAST-MODIFIED:20230316T141834Z
UID:4344-1681812000-1681815600@www.seniorenzentrum-lichtenberg.de
SUMMARY:Kraft-Balance-Training
DESCRIPTION:
URL:https://www.seniorenzentrum-lichtenberg.de/event/kraft-balance-training-9/
END:VEVENT
BEGIN:VEVENT
DTSTART;TZID=Europe/Berlin:20230418T183000
DTEND;TZID=Europe/Berlin:20230418T200000
DTSTAMP:20260420T182429
CREATED:20230316T143747Z
LAST-MODIFIED:20230316T143747Z
UID:4362-1681842600-1681848000@www.seniorenzentrum-lichtenberg.de
SUMMARY:Nachtschwärmer *Stammtisch*
DESCRIPTION:
URL:https://www.seniorenzentrum-lichtenberg.de/event/nachtschwaermer-stammtisch-5/
END:VEVENT
END:VCALENDAR